BEGIN:VCALENDAR
VERSION:2.0
PRODID:-//danbolin - ECPv6.15.16//NONSGML v1.0//EN
CALSCALE:GREGORIAN
METHOD:PUBLISH
X-ORIGINAL-URL:https://danbolin.eus
X-WR-CALDESC:Events for danbolin
REFRESH-INTERVAL;VALUE=DURATION:PT1H
X-Robots-Tag:noindex
X-PUBLISHED-TTL:PT1H
BEGIN:VTIMEZONE
TZID:Europe/Madrid
BEGIN:DAYLIGHT
TZOFFSETFROM:+0100
TZOFFSETTO:+0200
TZNAME:CEST
DTSTART:20240331T010000
END:DAYLIGHT
BEGIN:STANDARD
TZOFFSETFROM:+0200
TZOFFSETTO:+0100
TZNAME:CET
DTSTART:20241027T010000
END:STANDARD
BEGIN:DAYLIGHT
TZOFFSETFROM:+0100
TZOFFSETTO:+0200
TZNAME:CEST
DTSTART:20250330T010000
END:DAYLIGHT
BEGIN:STANDARD
TZOFFSETFROM:+0200
TZOFFSETTO:+0100
TZNAME:CET
DTSTART:20251026T010000
END:STANDARD
BEGIN:DAYLIGHT
TZOFFSETFROM:+0100
TZOFFSETTO:+0200
TZNAME:CEST
DTSTART:20260329T010000
END:DAYLIGHT
BEGIN:STANDARD
TZOFFSETFROM:+0200
TZOFFSETTO:+0100
TZNAME:CET
DTSTART:20261025T010000
END:STANDARD
BEGIN:DAYLIGHT
TZOFFSETFROM:+0100
TZOFFSETTO:+0200
TZNAME:CEST
DTSTART:20270328T010000
END:DAYLIGHT
BEGIN:STANDARD
TZOFFSETFROM:+0200
TZOFFSETTO:+0100
TZNAME:CET
DTSTART:20271031T010000
END:STANDARD
END:VTIMEZONE
BEGIN:VEVENT
DTSTART;TZID=Europe/Madrid:20251030T080000
DTEND;TZID=Europe/Madrid:20251030T170000
DTSTAMP:20260424T012355
CREATED:20251031T090005Z
LAST-MODIFIED:20251030T101004Z
UID:161735-1761811200-1761843600@danbolin.eus
SUMMARY:Errigoraren saskiak eskatzeko epea zabaldu dute
DESCRIPTION:Errigoraren saskiak eskatzeko epea jada zabalik dago eta azaroaren 13ra arte egongo da martxan. Aurtengo kanpainaren leloa “Ezinbestekoak” da\, Nafarroa erdi eta hegoaldeko euskalgintzako eragileei (AEK\, Sortzen\, Ikastolak\, Agerraldia) babesa emateko. \nZestoara saskiak azaroaren 27an iritsiko dira\, eta bi egunetan egingo da banaketa: \n· Azaroak 27\, asteazkena: arratsaldez\, 16:30etik 17:30era.\n· Azaroak 28\, osteguna: eguerdian\, 12:00etatik 13:00etara. \nEskaerak egiteko bidea errigora.eus webgunea da\, eta hiru aukera daude aurten ere: saski beltza (60 €)\, berdea (65 €) eta gorria (70 €). \nErrigoraren bidez erosketaren %25a Ager zonaldeko euskalgintzara bideratuko da\, eta\, Zestoako AEKk nabarmendu duenez\, “Zure ekarpena ezinbestekoa da”.
URL:https://danbolin.eus/event/errigoraren-saskiak-eskatzeko-epea-zabaldu-dute/
ATTACH;FMTTYPE=image/jpeg:https://danbolin.eus/wp-content/uploads/2023/05/errigora.jpg
END:VEVENT
BEGIN:VEVENT
DTSTART;TZID=Europe/Madrid:20260115T080000
DTEND;TZID=Europe/Madrid:20260115T170000
DTSTAMP:20260424T012355
CREATED:20260118T080010Z
LAST-MODIFIED:20260115T095557Z
UID:165487-1768464000-1768496400@danbolin.eus
SUMMARY:Zestoak "Gipuzkoako Herriartekoa" bertso txapelketan parte hartuko du
DESCRIPTION:Gipuzkoako Bertsozale Elkarteak antolatuta\, Gipuzkoako Herriartekoa taldekako bertsolari txapelketa aurkeztu zuten atzo Villabonan. \nAurten\, lehen fasearen antolaketa eskualdeka egitea erabaki da\, eta horren ardura eskualde bakoitzeko bertso-eskolen esku egon da. Urolako eskualdean\, Erniarraitz Bertsozale Elkarteak antolatu du lehen fasea\, urtarrilaren 23tik martxoaren 13ra bitartean. Martxoaren 13an jokatuko den eskualdeko finaleko irabazlea bigarren fasera sailkatuko da. \nLehen faseko lehen saioa urtarrilaren 23an jokatuko da Zestoan. Saioa gaueko 22:00etan izango da\, Harresi tabernan\, eta bertan Zestoako taldea Azpeitikoen aurka ariko da. \nZestoako taldeak Erraia izena du\, eta honako bertsolariek osatzen dute: Gorka Olaizola Goenaga\, Oskar Alberdi Etxabe eta Aitor Salegi Martija. Saioetako gai-jartzailea Aitor Zabala Eguren izango da\, eta epaile lanetan Joritz Zunzunegi Irure arituko da.
URL:https://danbolin.eus/event/zestoak-gipuzkoako-herriartekoa-bertso-txapelketan-parte-hartuko-du/
ATTACH;FMTTYPE=image/png:https://danbolin.eus/wp-content/uploads/2026/01/Captura-de-Pantalla-2026-01-15-a-las-10.49.58.png
END:VEVENT
END:VCALENDAR